BEGIN:VCALENDAR
VERSION:2.0
PRODID:-//Ursulinenkloster St. Angela - ECPv6.15.19//NONSGML v1.0//EN
CALSCALE:GREGORIAN
METHOD:PUBLISH
X-WR-CALNAME:Ursulinenkloster St. Angela
X-ORIGINAL-URL:https://ursulinenkloster-koenigstein.de
X-WR-CALDESC:Veranstaltungen für Ursulinenkloster St. Angela
REFRESH-INTERVAL;VALUE=DURATION:PT1H
X-Robots-Tag:noindex
X-PUBLISHED-TTL:PT1H
BEGIN:VTIMEZONE
TZID:Europe/Berlin
BEGIN:DAYLIGHT
TZOFFSETFROM:+0100
TZOFFSETTO:+0200
TZNAME:CEST
DTSTART:20250330T010000
END:DAYLIGHT
BEGIN:STANDARD
TZOFFSETFROM:+0200
TZOFFSETTO:+0100
TZNAME:CET
DTSTART:20251026T010000
END:STANDARD
BEGIN:DAYLIGHT
TZOFFSETFROM:+0100
TZOFFSETTO:+0200
TZNAME:CEST
DTSTART:20260329T010000
END:DAYLIGHT
BEGIN:STANDARD
TZOFFSETFROM:+0200
TZOFFSETTO:+0100
TZNAME:CET
DTSTART:20261025T010000
END:STANDARD
BEGIN:DAYLIGHT
TZOFFSETFROM:+0100
TZOFFSETTO:+0200
TZNAME:CEST
DTSTART:20270328T010000
END:DAYLIGHT
BEGIN:STANDARD
TZOFFSETFROM:+0200
TZOFFSETTO:+0100
TZNAME:CET
DTSTART:20271031T010000
END:STANDARD
END:VTIMEZONE
BEGIN:VEVENT
DTSTART;TZID=Europe/Berlin:20260424T190000
DTEND;TZID=Europe/Berlin:20260424T203000
DTSTAMP:20260424T075329
CREATED:20260327T185451Z
LAST-MODIFIED:20260327T185451Z
UID:6479-1777057200-1777062600@ursulinenkloster-koenigstein.de
SUMMARY:Bibelkreis
DESCRIPTION:Am Freitagabend (jeweils am 2. und 4. Freitag im Monat)\, nach der hl. Messe\, laden wir ein zum “Bibelkreis” – eine Gelegenheit\, sich mit dem Wort Gottes im Evangelium des kommenden Sonntags vertraut zu machen und ihm Platz im eigenen Leben zu geben… Herzliche Einladung dazu (1. Etage\, Meditationsraum)! \nmit Sr. Bogumila Mlynarczyk
URL:https://ursulinenkloster-koenigstein.de/veranstaltung-gz/bibelkreis-apr26-4/
LOCATION:Ursulinenkloster St. Angela\, Gerichtstr. 19\, Königstein\, Hessen\, 61462\, Deutschland
CATEGORIES:Bibel
ATTACH;FMTTYPE=image/jpeg:https://ursulinenkloster-koenigstein.de/wp-content/uploads/2024/01/Bibelkreis-7.jpg
END:VEVENT
END:VCALENDAR